BEGIN:VCALENDAR
VERSION:2.0
PRODID:-//wp-events-plugin.com//6.4.6.4//EN
TZID:America/Detroit
X-WR-TIMEZONE:America/Detroit
BEGIN:VEVENT
UID:71@museum.msu.edu
DTSTART;TZID=America/Detroit:20240616T130000
DTEND;TZID=America/Detroit:20240616T150000
DTSTAMP:20240604T205320Z
URL:https://museum.msu.edu/events/art-on-the-farm-workshop/
SUMMARY:Art on the Farm Workshop (SOLD OUT)
DESCRIPTION:Immerse yourself in inspiration at MSU’s Student Organic Farm
 . Join us for a walking tour at the certified-organic vegetable farm to le
 arn about organic farming basics\, permaculture\, farming in hoop houses\,
  and which crops find their way to the dining hall kitchens. After seeing 
 the sights\, you’ll be turned loose to sketch\, photograph\, paint en pl
 ein air\, capture audio and video\, write\, dance\, and otherwise engage w
 ith your artistic practice in this pastoral setting. We can’t wait to se
 e what you create! BYOAS: Bring your own art supplies. Families welcome!
ATTACH;FMTTYPE=image/jpeg:https://museum.msu.edu/wp-content/uploads/2024/0
 2/Art_on_the_Farm.jpg
LOCATION:MSU Student Organic Farm\, 3291 N College Rd\, Holt\, MI\, 48842\,
  United States
GEO:42.674078;-84.4844
X-APPLE-STRUCTURED-LOCATION;VALUE=URI;X-ADDRESS=3291 N College Rd\, Holt\, 
 MI\, 48842\, United States;X-APPLE-RADIUS=100;X-TITLE=MSU Student Organic 
 Farm:geo:42.674078,-84.4844
END:VEVENT
BEGIN:VTIMEZONE
TZID:America/Detroit
X-LIC-LOCATION:America/Detroit
BEGIN:DAYLIGHT
DTSTART:20240310T030000
TZOFFSETFROM:-0500
TZOFFSETTO:-0400
TZNAME:EDT
END:DAYLIGHT
END:VTIMEZONE
END:VCALENDAR