BEGIN:VCALENDAR
VERSION:2.0
PRODID:-//wp-events-plugin.com//6.4.6.4//EN
TZID:America/Detroit
X-WR-TIMEZONE:America/Detroit
BEGIN:VEVENT
UID:79@museum.msu.edu
DTSTART;TZID=America/Detroit:20240323T140000
DTEND;TZID=America/Detroit:20240323T150000
DTSTAMP:20240306T195908Z
URL:https://museum.msu.edu/events/artist-talk-and-reception/
SUMMARY:Artist Talk and Reception with Abel Korinsky
DESCRIPTION:Meet the inaugural MSUFCU Arts Power Up Artist-in-Residence Abe
 l Korinsky\, of the Berlin-based Studio Korinsky. Over the next few months
 \, Korinsky will be embedded in the Facility for Rare Isotope Beams (FRIB)
 \, one of the world’s leading nuclear physics laboratories. From this ex
 perience\, he will create pieces to be exhibited by the MSU Museum CoLab S
 tudio in Fall 2024. Come hear about Korinsky’s artistic philosophy\, pas
 t work\, and his vision for this endeavor. \n\nRead more about the MSUFCU
  ArtsPower Up Artist-in-Residence program in MSU Today.\n\nThe MSUFCU Arts
  Power Up Arts Residency at FRIB program is generously supported by an end
 owed gift from the Michigan State University Federal Credit Union.
ATTACH;FMTTYPE=image/jpeg:https://museum.msu.edu/wp-content/uploads/2024/0
 3/GBVnI1dW4AApQsl.jpg
LOCATION:Facility for Rare Isotope Beams (FRIB) Auditorium\, 640 S. Shaw La
 ne\, East Lansing\, Michigan\, 48824\, United States
GEO:42.724932;-84.47448
X-APPLE-STRUCTURED-LOCATION;VALUE=URI;X-ADDRESS=640 S. Shaw Lane\, East Lan
 sing\, Michigan\, 48824\, United States;X-APPLE-RADIUS=100;X-TITLE=Facilit
 y for Rare Isotope Beams (FRIB) Auditorium:geo:42.724932,-84.47448
END:VEVENT
BEGIN:VTIMEZONE
TZID:America/Detroit
X-LIC-LOCATION:America/Detroit
BEGIN:DAYLIGHT
DTSTART:20240310T030000
TZOFFSETFROM:-0500
TZOFFSETTO:-0400
TZNAME:EDT
END:DAYLIGHT
END:VTIMEZONE
END:VCALENDAR