BEGIN:VCALENDAR
VERSION:2.0
PRODID:-//wp-events-plugin.com//6.4.6.4//EN
TZID:America/Detroit
X-WR-TIMEZONE:America/Detroit
BEGIN:VEVENT
UID:80@museum.msu.edu
DTSTART;TZID=America/Detroit:20240329T113000
DTEND;TZID=America/Detroit:20240329T130000
DTSTAMP:20240314T173107Z
URL:https://museum.msu.edu/events/arts-and-sciences-in-dialogue/
SUMMARY:Arts and Sciences in Dialogue
DESCRIPTION:Join the conversation on collaboration in the arts and sciences
  with visiting artist-in-residence Abel Korinsky and CIRCLE director Megan
  Halpern. Dr. Halpern will ask Korinsky about his residency at MSU’s Fac
 ility for Rare Isotope Beams (FRIB) and how working at the intersection of
  art and science has shaped his process and informed his artwork. Their di
 scussion will end with a Q and A for audience members followed by informal
  time for mingling and conversation. Lunch included! \n\nThe MSUFCU Arts 
 Power Up Art Residency at FRIB is generously supported by an endowed gift 
 from the Michigan State University Federal Credit Union.
ATTACH;FMTTYPE=image/jpeg:https://museum.msu.edu/wp-content/uploads/2024/0
 3/GBVnI1dW4AApQsl.jpg
LOCATION:MSU Museum\, 409 West Circle Drive\, East Lansing\, Michigan\, 488
 24\, United States
GEO:42.731562;-84.48169
X-APPLE-STRUCTURED-LOCATION;VALUE=URI;X-ADDRESS=409 West Circle Drive\, Eas
 t Lansing\, Michigan\, 48824\, United States;X-APPLE-RADIUS=100;X-TITLE=MS
 U Museum:geo:42.731562,-84.48169
END:VEVENT
BEGIN:VTIMEZONE
TZID:America/Detroit
X-LIC-LOCATION:America/Detroit
BEGIN:DAYLIGHT
DTSTART:20240310T030000
TZOFFSETFROM:-0500
TZOFFSETTO:-0400
TZNAME:EDT
END:DAYLIGHT
END:VTIMEZONE
END:VCALENDAR