BEGIN:VCALENDAR
VERSION:2.0
PRODID:-//wp-events-plugin.com//6.4.6.4//EN
TZID:America/Detroit
X-WR-TIMEZONE:America/Detroit
BEGIN:VEVENT
UID:127@museum.msu.edu
DTSTART;TZID=America/Detroit:20260114T160000
DTEND;TZID=America/Detroit:20260114T190000
DTSTAMP:20251204T193319Z
URL:https://museum.msu.edu/events/blurred-realities-exhibition-opening-rec
 eption/
SUMMARY:Blurred Realities | Exhibition Opening Reception
DESCRIPTION:At 3:30 PM\, we will mark the reopening of the MSU Museum with 
 a brief opening ceremony and remarks to officially welcome visitors into t
 he space. Following the remarks\, guests will be invited to explore the re
 novated museum building for the first time.\nAfterward\, join us for a rec
 eption celebrating the opening of Blurred Realities\, the newest exhibitio
 n from the MSU Museum CoLab Studio. The exhibition invites you to examine 
 the dilemmas tied to dis/mis/information\, artificial intelligence\, and s
 hifting perceptions of truth. Meet exhibitors and program partners\, engag
 e with our team of student CoLaborators\, and hear a DJ set from John “J
 ammin” Collins\, and enjoy refreshments.
ATTACH;FMTTYPE=image/jpeg:https://museum.msu.edu/wp-content/uploads/2025/0
 7/Blurred_Realities_Mock_up.png
CATEGORIES:Blurred Realities
LOCATION:MSU Museum\, 409 West Circle Drive\, East Lansing\, Michigan\, 488
 24\, United States
GEO:42.731562;-84.48169
X-APPLE-STRUCTURED-LOCATION;VALUE=URI;X-ADDRESS=409 West Circle Drive\, Eas
 t Lansing\, Michigan\, 48824\, United States;X-APPLE-RADIUS=100;X-TITLE=MS
 U Museum:geo:42.731562,-84.48169
END:VEVENT
BEGIN:VTIMEZONE
TZID:America/Detroit
X-LIC-LOCATION:America/Detroit
BEGIN:STANDARD
DTSTART:20251102T010000
TZOFFSETFROM:-0400
TZOFFSETTO:-0500
TZNAME:EST
END:STANDARD
END:VTIMEZONE
END:VCALENDAR