BEGIN:VCALENDAR
VERSION:2.0
PRODID:-//wp-events-plugin.com//6.4.6.4//EN
TZID:America/Detroit
X-WR-TIMEZONE:America/Detroit
BEGIN:VEVENT
UID:21@museum.msu.edu
DTSTART;TZID=America/Detroit:20231011T170000
DTEND;TZID=America/Detroit:20231011T183000
DTSTAMP:20231129T210835Z
URL:https://museum.msu.edu/events/conversation-ai-and-accountability/
SUMMARY:Conversation: AI and Accountability
DESCRIPTION:A lot has changed since we talked 6 months ago. Artificial Inte
 lligence (AI) algorithms are rapidly working their way into every aspect o
 f our lives\, with oversight and guardrails frantically playing catch-up. 
 The MSU Museum CoLab Studio invites you to join the conversation about tra
 nsparency and accountability in AI with Bill Hart-Davidson (Professor in W
 riting\, Rhetoric\, and American Cultures\, and Associate Dean for Researc
 h and Graduate Education) and Anjana Susarla (Omura-Saxena Professor in Re
 sponsible AI at the Broad College of Business). This discussion will be mo
 derated by Mark Sullivan\, a practicing photographer\, composer\, and the 
 creative director of the MSU Museum CoLab Studio.  \n\nThis conversation
  is part of the Prompt Response pop-up exhibition by the MSU Museum CoLab 
 Studio. \n\nREGISTER HERE
ATTACH;FMTTYPE=image/jpeg:https://museum.msu.edu/wp-content/uploads/2023/1
 1/Web-AI-and-Accountability-2.jpg
LOCATION:Cook Recital Hall - Music Building\, 333 West Circle Drive\, East 
 Lansing\, Michigan\, 48824\, United States
GEO:42.732222;-84.48434
X-APPLE-STRUCTURED-LOCATION;VALUE=URI;X-ADDRESS=333 West Circle Drive\, Eas
 t Lansing\, Michigan\, 48824\, United States;X-APPLE-RADIUS=100;X-TITLE=Co
 ok Recital Hall - Music Building:geo:42.732222,-84.48434
END:VEVENT
BEGIN:VTIMEZONE
TZID:America/Detroit
X-LIC-LOCATION:America/Detroit
BEGIN:DAYLIGHT
DTSTART:20230312T030000
TZOFFSETFROM:-0500
TZOFFSETTO:-0400
TZNAME:EDT
END:DAYLIGHT
END:VTIMEZONE
END:VCALENDAR