BEGIN:VCALENDAR
VERSION:2.0
PRODID:-//wp-events-plugin.com//6.4.6.4//EN
TZID:America/Detroit
X-WR-TIMEZONE:America/Detroit
BEGIN:VEVENT
UID:115@museum.msu.edu
DTSTART;TZID=America/Detroit:20251029T190000
DTEND;TZID=America/Detroit:20251029T203000
DTSTAMP:20251105T213415Z
URL:https://museum.msu.edu/events/ignite-talks-msu-5/
SUMMARY:Ignite Talks MSU 5
DESCRIPTION:JOIN US LIVE!\nThe MSU Museum CoLab Studio is excited to presen
 t the fifth edition of Ignite Talks MSU\, featuring the fast-paced stories
  of nine MSU student research rockstars. We can’t wait for you to be del
 ighted and inspired by the ideas\, passion\, and knowledge at Michigan Sta
 te! Watch videos from previous Ignite Talks MSU on our Interactive Media p
 age.\nMeet your speakers!\n\n 	Diego S. Granados-Villanueva\, “Oh\, The 
 Places Proteins Will Go!”\, PhD candidate in the Department of Biochemis
 try and Molecular Biology\, College of Natural Science \n 	Alex Guo\, “
 Beyond Rhetoric: Building Trans-Affirming Communities”\, undergraduate s
 tudent in the Department of Writing\, Rhetoric\, and Cultures (WRAC)\, Col
 lege of Arts and Letters \n\n\n 	Justin Jaraczewski\, “When to Change Y
 our Mind: Principles of Plasticity”\, undergraduate student in the Depar
 tment of Physiology\, College of Natural Science and Honors College \n\n\
 n 	Rachel Lau\, “How mud and sand shape Great Lakes coastal wetlands”\
 , PhD student in the Department of Geography\, Environment and Spatial Sci
 ences\, College of Social Science \n\n\n 	Moldir Moldagaliyeva\, “Why S
 ome People Pick Local Fakes Over Original Imports”\, PhD candidate in th
 e Department of Advertising and Public Relations\, College of Communicatio
 n Arts and Sciences \n\n\n 	James Morrison\, “Drones\, Sensors &amp\; A
 I for Low-Cost Infrastructure Checkups”\, graduate student in the Depart
 ment of Civil Engineering\, College of Engineering \n\n\n 	Jutamas Suwann
 awat\, “Bouncing Back Like a Tumbler Doll: The Power of Resilience”\, 
 PhD student in the College of Nursing \n\n\n 	Ishitha Teluguntla\, “Wha
 t Happens When Brain Cells Go Rogue”\, undergraduate student in the Depa
 rtment of Neuroscience\, Lyman Briggs College and Osteopathic Medical Scho
 lars Program \n\n\n 	Morgan van den Berg\, “Parasitic AI: How machines 
 feed on our vulnerabilities”\, graduate student in the Department of Adv
 ertising and Public Relations\, College of Communication Arts and Sciences
  \n
ATTACH;FMTTYPE=image/jpeg:https://museum.msu.edu/wp-content/uploads/2025/0
 3/MSUM-Program-IgniteTalks-June25-Website-900x600-1.jpg
CATEGORIES:Ignite Talks MSU
LOCATION:311 Abbot\, 311 Abbot\, East Lansing\, MI\, 48823\, United States
GEO:42.736124;-84.483947
X-APPLE-STRUCTURED-LOCATION;VALUE=URI;X-ADDRESS=311 Abbot\, East Lansing\, 
 MI\, 48823\, United States;X-APPLE-RADIUS=100;X-TITLE=311 Abbot:geo:42.736
 124,-84.483947
END:VEVENT
BEGIN:VTIMEZONE
TZID:America/Detroit
X-LIC-LOCATION:America/Detroit
BEGIN:DAYLIGHT
DTSTART:20250309T030000
TZOFFSETFROM:-0500
TZOFFSETTO:-0400
TZNAME:EDT
END:DAYLIGHT
END:VTIMEZONE
END:VCALENDAR