BEGIN:VCALENDAR
VERSION:2.0
PRODID:-//wp-events-plugin.com//6.4.6.4//EN
TZID:America/Detroit
X-WR-TIMEZONE:America/Detroit
BEGIN:VEVENT
UID:132@museum.msu.edu
DTSTART;TZID=America/Detroit:20260312T190000
DTEND;TZID=America/Detroit:20260312T203000
DTSTAMP:20260227T160417Z
URL:https://museum.msu.edu/events/msu-ignite-talks/
SUMMARY:MSU Ignite Talks 6
DESCRIPTION:JOIN US LIVE!\nThe MSU Museum CoLab Studio is excited to presen
 t the sixth edition of Ignite Talks MSU\, featuring the fast-paced stories
  of nine MSU student research rockstars. We can’t wait for you to be del
 ighted and inspired by the ideas\, passion\, and knowledge at Michigan Sta
 te! Watch videos from previous Ignite Talks MSU on our Interactive Media p
 age.\nSpeakers:\n\n 	Yétúndé Alábẹdé\, “Language as a Gift: Less
 ons from African Families”\, graduate student in the Department of Teac
 her Education\, College of Education \n\n\n 	Kelechi Amakoh\, “Ugly C
 ampaigns\, Fragile Democracies”\, graduate student in the Department of
  Political Science\, College of Social Science \n\n\n 	Kaedon Cleland-Hos
 t\, “Recording atomic electrons at 100 trillion frames per second”\, g
 raduate student in the Department of Physics and Astronomy\, College of Na
 tural Science \n\n\n 	Thomas Hennessey\, “Invasive plants are more than
  meets the eye”\, graduate student in the Department of Forestry\, Col
 lege of Agriculture and Natural Resources \n\n\n 	Matias Leon-Miquel\, 
 “Bendable Mooncrete/Marscrete for Outer Space”\, graduate student i
 n the Department of Civil and Environmental Engineering\, College of Engin
 eering \n\n\n 	Ian Morris\, “How Tiny Diamond Defects Could Power the Q
 uantum Internet”\, graduate student in Department of Physics and Astro
 nomy\, College of Natural Science and College of Engineering \n\n\n 	Ange
 l G. A. Prempeh\, “What If Gun Violence Spread Like a Disease?”\, M
 D student in the College of Human Medicine \n\n\n 	Bruna Rodrigues do Ama
 ral\, “You Can't Build a Wall Around Nature: Bird Conservation that Goe
 s Beyond Park Boundaries”\, graduate student in the Department of Integ
 rative Biology\, College of Natural Science \n\n\n 	Dangkamol Wongthanar
 oj\, “Medical Packaging: The Unsung Hero That Saves Your Life”\, gr
 aduate student in the School of Packaging\, College of Agriculture and Nat
 ural Resources \n
ATTACH;FMTTYPE=image/jpeg:https://museum.msu.edu/wp-content/uploads/2025/0
 3/MSUM-Program-IgniteTalks-June25-Website-900x600-1.jpg
CATEGORIES:Ignite Talks MSU
LOCATION:MSU Museum\, 409 West Circle Drive\, East Lansing\, Michigan\, 488
 24\, United States
GEO:42.731562;-84.48169
X-APPLE-STRUCTURED-LOCATION;VALUE=URI;X-ADDRESS=409 West Circle Drive\, Eas
 t Lansing\, Michigan\, 48824\, United States;X-APPLE-RADIUS=100;X-TITLE=MS
 U Museum:geo:42.731562,-84.48169
END:VEVENT
BEGIN:VTIMEZONE
TZID:America/Detroit
X-LIC-LOCATION:America/Detroit
BEGIN:DAYLIGHT
DTSTART:20260308T030000
TZOFFSETFROM:-0500
TZOFFSETTO:-0400
TZNAME:EDT
END:DAYLIGHT
END:VTIMEZONE
END:VCALENDAR