BEGIN:VCALENDAR
VERSION:2.0
PRODID:-//wp-events-plugin.com//6.4.6.4//EN
TZID:America/Detroit
X-WR-TIMEZONE:America/Detroit
BEGIN:VEVENT
UID:23@museum.msu.edu
DTSTART;TZID=America/Detroit:20231006T190000
DTEND;TZID=America/Detroit:20231006T210000
DTSTAMP:20231130T145622Z
URL:https://museum.msu.edu/events/museum-mystery/
SUMMARY:Museum Mystery
DESCRIPTION:First Fridays are night at the MSU Museum for college students!
  Join us for special activities related to a different theme each month.\n
 \n7:00 – 9:00 PM\nat the MSU Museum\n\nTickets are free\, but limited\, 
 so reserve your spot now!
ATTACH;FMTTYPE=image/jpeg:https://museum.msu.edu/wp-content/uploads/2023/0
 8/MSUM-FirstFridays-MuseumMystery-Website-900x600-1.png
LOCATION:MSU Museum\, 409 West Circle Drive\, East Lansing\, Michigan\, 488
 24\, United States
GEO:42.731562;-84.48169
X-APPLE-STRUCTURED-LOCATION;VALUE=URI;X-ADDRESS=409 West Circle Drive\, Eas
 t Lansing\, Michigan\, 48824\, United States;X-APPLE-RADIUS=100;X-TITLE=MS
 U Museum:geo:42.731562,-84.48169
END:VEVENT
BEGIN:VTIMEZONE
TZID:America/Detroit
X-LIC-LOCATION:America/Detroit
BEGIN:DAYLIGHT
DTSTART:20230312T030000
TZOFFSETFROM:-0500
TZOFFSETTO:-0400
TZNAME:EDT
END:DAYLIGHT
END:VTIMEZONE
END:VCALENDAR