BEGIN:VCALENDAR
VERSION:2.0
PRODID:-//wp-events-plugin.com//6.4.6.4//EN
TZID:America/Detroit
X-WR-TIMEZONE:America/Detroit
BEGIN:VEVENT
UID:15@museum.msu.edu
DTSTART;TZID=America/Detroit:20231117T170000
DTEND;TZID=America/Detroit:20231117T190000
DTSTAMP:20231129T201908Z
URL:https://museum.msu.edu/events/pride-in-stem-day-2023/
SUMMARY:Pride in STEM Day 2023
DESCRIPTION:Join us and other queer students\, faculty\, staff\, and alumni
  for a social and networking event on (the day before) International LGBTQ
 + in STEM Day at the MSU Museum. We will have light refreshments and a few
  remarks from the Salus Center and the MSU Gender and Sexuality Campus Cen
 ter\, and all three Museum floors will be open to explore! \n\nREGISTER H
 ERE
ATTACH;FMTTYPE=image/jpeg:https://museum.msu.edu/wp-content/uploads/2023/1
 1/Website-Pride-in-STEM.png
LOCATION:MSU Museum\, 409 West Circle Drive\, East Lansing\, Michigan\, 488
 24\, United States
GEO:42.731562;-84.48169
X-APPLE-STRUCTURED-LOCATION;VALUE=URI;X-ADDRESS=409 West Circle Drive\, Eas
 t Lansing\, Michigan\, 48824\, United States;X-APPLE-RADIUS=100;X-TITLE=MS
 U Museum:geo:42.731562,-84.48169
END:VEVENT
BEGIN:VTIMEZONE
TZID:America/Detroit
X-LIC-LOCATION:America/Detroit
BEGIN:STANDARD
DTSTART:20231105T010000
TZOFFSETFROM:-0400
TZOFFSETTO:-0500
TZNAME:EST
END:STANDARD
END:VTIMEZONE
END:VCALENDAR