BEGIN:VCALENDAR
VERSION:2.0
PRODID:-//wp-events-plugin.com//6.4.6.4//EN
TZID:America/Detroit
X-WR-TIMEZONE:America/Detroit
BEGIN:VEVENT
UID:95@museum.msu.edu
DTSTART;TZID=America/Detroit:20241024T171000
DTEND;TZID=America/Detroit:20241024T183000
DTSTAMP:20241021T144608Z
URL:https://museum.msu.edu/events/the-syntax-of-science/
SUMMARY:The Syntax of Science
DESCRIPTION:Join us as we search for artistic meaning in the atomic buildin
 g blocks of the Universe using syntax. MSUFCU Arts Power Up Artist-in-Resi
 dence Violeta López López will explore the intersection of art\, science
 \, and language with Artemis Spyrou\, Professor of nuclear astrophysics at
  the Facility for Rare Isotope Beams (FRIB)\, and Brian Buccola\, Associat
 e Professor of linguistics and semantics in the Department of Linguistics\
 , Languages\, and Cultures. The discussion and audience Q&amp\;A will be m
 oderated by Abbie Stevens\, MSU Museum CoLab Program Manager. \n\nThe MSU
 FCU Arts Power Up Art Residency at FRIB is generously supported by an endo
 wed gift from the Michigan State University Federal Credit Union.
ATTACH;FMTTYPE=image/jpeg:https://museum.msu.edu/wp-content/uploads/2024/0
 7/Syntax-of-Science-Event-Size.png
CATEGORIES:Arts Power Up
LOCATION:Facility for Rare Isotope Beams (FRIB) Auditorium\, 640 S. Shaw La
 ne\, East Lansing\, Michigan\, 48824\, United States
GEO:42.724932;-84.47448
X-APPLE-STRUCTURED-LOCATION;VALUE=URI;X-ADDRESS=640 S. Shaw Lane\, East Lan
 sing\, Michigan\, 48824\, United States;X-APPLE-RADIUS=100;X-TITLE=Facilit
 y for Rare Isotope Beams (FRIB) Auditorium:geo:42.724932,-84.47448
END:VEVENT
BEGIN:VTIMEZONE
TZID:America/Detroit
X-LIC-LOCATION:America/Detroit
BEGIN:DAYLIGHT
DTSTART:20240310T030000
TZOFFSETFROM:-0500
TZOFFSETTO:-0400
TZNAME:EDT
END:DAYLIGHT
END:VTIMEZONE
END:VCALENDAR