BEGIN:VCALENDAR
VERSION:2.0
PRODID:-//wp-events-plugin.com//6.4.6.4//EN
TZID:America/Detroit
X-WR-TIMEZONE:America/Detroit
BEGIN:VEVENT
UID:112@museum.msu.edu
DTSTART;TZID=America/Detroit:20250411T200000
DTEND;TZID=America/Detroit:20250411T220000
DTSTAMP:20250310T135355Z
URL:https://museum.msu.edu/events/underground-resistance-live-performance/
SUMMARY:John Collins of Underground Resistance: DJ Set
DESCRIPTION:Experience the legendary sound of Detroit's Techno as John Coll
 ins of Underground Resistance takes the stage for a DJ set. A member of th
 e Underground Resistance collective\, Collins brings the raw energy\, visi
 onary beats\, and revolutionary spirit that helped shape a global movement
 .\nDon’t miss this opportunity to immerse yourself in the sounds of Detr
 oit’s electronic music.\nThis program is in conjunction with Techno: Th
 e Rise of Detroit’s Machine Music on view at 311 Abbot February 4 – A
 pril 30\, 2025.
ATTACH;FMTTYPE=image/jpeg:https://museum.msu.edu/wp-content/uploads/2025/0
 1/MSUM-Techno-UndergroundResistance-Performance-Website-900x600-v2.jpg
CATEGORIES:Afrofuturism
LOCATION:311 Abbot\, 311 Abbot\, East Lansing\, MI\, 48823\, United States
GEO:42.736124;-84.483947
X-APPLE-STRUCTURED-LOCATION;VALUE=URI;X-ADDRESS=311 Abbot\, East Lansing\, 
 MI\, 48823\, United States;X-APPLE-RADIUS=100;X-TITLE=311 Abbot:geo:42.736
 124,-84.483947
END:VEVENT
BEGIN:VTIMEZONE
TZID:America/Detroit
X-LIC-LOCATION:America/Detroit
BEGIN:DAYLIGHT
DTSTART:20250309T030000
TZOFFSETFROM:-0500
TZOFFSETTO:-0400
TZNAME:EDT
END:DAYLIGHT
END:VTIMEZONE
END:VCALENDAR