BEGIN:VCALENDAR
VERSION:2.0
PRODID:-//wp-events-plugin.com//6.4.6.4//EN
TZID:America/Detroit
X-WR-TIMEZONE:America/Detroit
BEGIN:VEVENT
UID:121@museum.msu.edu
DTSTART;TZID=America/Detroit:20260123T190000
DTEND;TZID=America/Detroit:20260123T210000
DTSTAMP:20260122T184631Z
URL:https://museum.msu.edu/events/unwind-new-years-silent-disco/
SUMMARY:UNWIND | New Year’s Silent Disco
DESCRIPTION:UNWIND\nYour once-a-month exhale.\nCreated for MSU students\, 
 UNWIND is a monthly series from the MSU Museum that offers a chance to re
 lax\, recharge\, and reset. From art and music to movement and mindfulness
 \, each event is designed to help you take a well-deserved pause.\nMOVE :
  New Year’s Silent Disco\n\nAre you ready to ring in the new year with s
 tyle and fun? Celebrate the new year with us at  MSU Museum’s New Year 
 Silent Disco! Whether you want to show up in style\, dress comfy\, or just
  come\, and jam out. Grab a headset\, pick a channel that you vibe with\, 
 and ring in the new year on this unforgettable night! When you need a brea
 k from dancing\, make sure to grab some food\, try to win some prizes and 
 capture the great memories at our photo wall. Come celebrate the new year 
 and the new Museum on this night of music\, dancing\, and fun! \nRegister
  Here\nTickets are free\, but limited!
ATTACH;FMTTYPE=image/jpeg:https://museum.msu.edu/wp-content/uploads/2025/0
 7/WebsiteMove900x600.jpg
CATEGORIES:Unwind
LOCATION:MSU Museum\, 409 West Circle Drive\, East Lansing\, Michigan\, 488
 24\, United States
GEO:42.731562;-84.48169
X-APPLE-STRUCTURED-LOCATION;VALUE=URI;X-ADDRESS=409 West Circle Drive\, Eas
 t Lansing\, Michigan\, 48824\, United States;X-APPLE-RADIUS=100;X-TITLE=MS
 U Museum:geo:42.731562,-84.48169
END:VEVENT
BEGIN:VTIMEZONE
TZID:America/Detroit
X-LIC-LOCATION:America/Detroit
BEGIN:STANDARD
DTSTART:20251102T010000
TZOFFSETFROM:-0400
TZOFFSETTO:-0500
TZNAME:EST
END:STANDARD
END:VTIMEZONE
END:VCALENDAR