BEGIN:VCALENDAR
VERSION:2.0
PRODID:-//wp-events-plugin.com//6.4.6.4//EN
TZID:America/Detroit
X-WR-TIMEZONE:America/Detroit
BEGIN:VEVENT
UID:120@museum.msu.edu
DTSTART;TZID=America/Detroit:20251107T190000
DTEND;TZID=America/Detroit:20251107T210000
DTSTAMP:20250822T151713Z
URL:https://museum.msu.edu/events/unwind-unplug-link-up-have-fun/
SUMMARY:UNWIND | Unplug. Link up. Have fun.
DESCRIPTION:UNWIND\nYour once-a-month exhale.\nCreated for MSU students\, 
 UNWIND is a monthly series from the MSU Museum that offers a chance to re
 lax\, recharge\, and reset. From art and music to movement and mindfulness
 \, each event is designed to help you take a well-deserved pause.\nPLAY: U
 nplug. Link up. Have fun.\nIf you like games and fun then you will not wan
 t to miss MSU Museum’s Unplug\, link up\, have fun! We have something fo
 r everyone to enjoy! Outsmart your friends or opponents in long form strat
 egy games. Or maybe you prefer to grab your friends for a big laugh with q
 uick\, fun\, and quirky party games. If that isn’t your vibe\, test your
  skills at quick 1-minute games to see if you can be at the top of the lea
 der board or try your luck at the inflatable carnival games! Enjoy your ni
 ght with friends\, food\, games\, and prizes! \nRegister Here\n\nTickets 
 are free\, but limited!\nUpcoming program in the UNWIND series.\nMOVE: New
  Year\, new you\, New Museum
ATTACH;FMTTYPE=image/jpeg:https://museum.msu.edu/wp-content/uploads/2025/0
 7/WebsitePlay900x600.jpg
CATEGORIES:Unwind
LOCATION:311 Abbot\, 311 Abbot\, East Lansing\, MI\, 48823\, United States
GEO:42.736124;-84.483947
X-APPLE-STRUCTURED-LOCATION;VALUE=URI;X-ADDRESS=311 Abbot\, East Lansing\, 
 MI\, 48823\, United States;X-APPLE-RADIUS=100;X-TITLE=311 Abbot:geo:42.736
 124,-84.483947
END:VEVENT
BEGIN:VTIMEZONE
TZID:America/Detroit
X-LIC-LOCATION:America/Detroit
BEGIN:STANDARD
DTSTART:20251102T010000
TZOFFSETFROM:-0400
TZOFFSETTO:-0500
TZNAME:EST
END:STANDARD
END:VTIMEZONE
END:VCALENDAR