BEGIN:VCALENDAR
VERSION:2.0
PRODID:-//wp-events-plugin.com//6.4.6.4//EN
TZID:America/Detroit
X-WR-TIMEZONE:America/Detroit
BEGIN:VEVENT
UID:83@museum.msu.edu
DTSTART;TZID=America/Detroit:20240409T160000
DTEND;TZID=America/Detroit:20240409T173000
DTSTAMP:20240327T144958Z
URL:https://museum.msu.edu/events/virtual-artists-panel-afrofuturism-quilt
 s/
SUMMARY:Virtual Artists Panel | Afrofuturism & Quilts
DESCRIPTION:The Quilt Index’s Black Diaspora Quilt History Project is h
 osting an exhibition titled Afrofuturism &amp\; Quilts in the MSU Union Ga
 llery April 5 - June 29\, 2024. In this exhibition quiltmakers and quilt s
 cholars explore embodied and theoretical connections between Afrofuturism 
 and quilt making. Each piece in the exhibition explores aspects of include
 d quiltmakers’ identity and experiences\, as well as their beliefs\, hop
 es\, and imaginings of a liberated Afrofuture. The work of local and natio
 nal quilt artists will be showcased. Artists include: April Shipp\, Dr. El
 ka Stevens\, Janda Lipker &amp\; Rebecca Lipker\, Carole Lyles Shaw\, Dr. 
 Diana Baird N’Diaye\, Chiquita Whitfield\, &amp\; Dr. Liv Furman.\n\nReg
 ister to join a virtual talk with the artists!
ATTACH;FMTTYPE=image/jpeg:https://museum.msu.edu/wp-content/uploads/2024/0
 3/MSUM-AfrofuturismQuilts-Digital-Website-900x600-1.png
CATEGORIES:Afrofuturism
END:VEVENT
BEGIN:VTIMEZONE
TZID:America/Detroit
X-LIC-LOCATION:America/Detroit
BEGIN:DAYLIGHT
DTSTART:20240310T030000
TZOFFSETFROM:-0500
TZOFFSETTO:-0400
TZNAME:EDT
END:DAYLIGHT
END:VTIMEZONE
END:VCALENDAR