BEGIN:VCALENDAR
VERSION:2.0
PRODID:-//wp-events-plugin.com//6.4.6.4//EN
TZID:America/Detroit
X-WR-TIMEZONE:America/Detroit
BEGIN:VEVENT
UID:47@museum.msu.edu
DTSTART;TZID=America/Detroit:20240306T120000
DTEND;TZID=America/Detroit:20240306T130000
DTSTAMP:20240306T144432Z
URL:https://museum.msu.edu/events/wellness-wednesday-workshop-1-seed-excha
 nge/
SUMMARY:Wellness Wednesday Workshop #1: Seed Exchange
DESCRIPTION:Come chill with the Beal Botanical Garden and MSU Museum and le
 arn about seeds!\nSome Michigan-native seeds require scarification or cold
  stratification to sprout\, and the shape of\nseeds gives us clues about h
 ow they’re sown in the wild. Start planning for spring\, pick seeds to t
 ake\nhome\, and make wildflower seed bombs.\n\nLocation: Beal Botanical Ga
 rden\, meet at the pond
ATTACH;FMTTYPE=image/jpeg:https://museum.msu.edu/wp-content/uploads/2024/0
 1/MSUM-FoodFight-Program-Digital-WellWedSeedExchange-Website-900x600-1.png
LOCATION:W. J. Beal Botanical Garden\, 330 W Circle Drive\, East Lansing\, 
 Michigan\, 48824\, United States
GEO:42.73186;-84.484892
X-APPLE-STRUCTURED-LOCATION;VALUE=URI;X-ADDRESS=330 W Circle Drive\, East L
 ansing\, Michigan\, 48824\, United States;X-APPLE-RADIUS=100;X-TITLE=W. J.
  Beal Botanical Garden:geo:42.73186,-84.484892
END:VEVENT
BEGIN:VTIMEZONE
TZID:America/Detroit
X-LIC-LOCATION:America/Detroit
BEGIN:STANDARD
DTSTART:20231105T010000
TZOFFSETFROM:-0400
TZOFFSETTO:-0500
TZNAME:EST
END:STANDARD
END:VTIMEZONE
END:VCALENDAR